BEGIN:VCALENDAR
VERSION:2.0
PRODID:-//ISBA - ECPv4.4.1.1//NONSGML v1.0//EN
CALSCALE:GREGORIAN
METHOD:PUBLISH
X-WR-CALNAME:ISBA
X-ORIGINAL-URL:http://www.irishbotanicalartists.ie
X-WR-CALDESC:Events for ISBA
BEGIN:VEVENT
DTSTART;VALUE=DATE:20170601
DTEND;VALUE=DATE:20170605
DTSTAMP:20171031T170954
CREATED:20170429T174129Z
LAST-MODIFIED:20170508T213909Z
UID:10512-1496275200-1496707199@www.irishbotanicalartists.ie
SUMMARY:Botanical and Floral Art in Bloom
DESCRIPTION:The fifth annual Botanical & Floral Art Exhibition at the Bloom Festival is an Open Call Exhibition featuring some of the best botanical artists exhibiting in Ireland today. Medals may be awarded for works of particular merit by an independent judging panel.  As well as the paintings themselves\, cards and prints will be available for sale at the exhibition. The exhibition will be launched on the Thursday evening by our own Chairwoman\, Jane Stark.\n\nDo come and see the work. You will find us at the Phoenix Park Visitor Centre\, just beside the cafe and opposite the stone tower.\n\n(The image shows a work in progress by Lynn Stringer\, one of the artists featured in the exhibition).
URL:http://www.irishbotanicalartists.ie/event/botanical-and-floral-art-in-bloom/
LOCATION:Phoenix Park\, Dublin\, Ireland
CATEGORIES:Non-ISBA Event
ATTACH;FMTTYPE=image/jpeg:http://www.irishbotanicalartists.ie/wp-content/uploads/2017/04/botanicalartinbloomlynn.jpg
END:VEVENT
END:VCALENDAR